Workbook

Sheet RESUMO
B2: LIMPEZA - Regime de Tributação: LUCRO REAL
B3: ANEXO II ---- do Pregão nº XX/2024 MODELO DE PLANILHA DE CUSTOS E FORMAÇÃO DE PREÇOS
B4: Nº do processo: | I4: XXXXXXXXXX
B5: Licitação nº: | I5: XXXXXXXXXX
B6: Dia: | I6: XXXXXXXXXX
B7: DISCRIMINAÇÃO DOS SERVIÇOS (DADOS REFERENTES À CONTRATAÇÃO)
B8: A | C8: Data de apresentação da proposta (dia/mês/ano) | I8: XXXXXXXXXX
B9: B | C9: Município/UF | I9: Santana do Livramento/RS
B10: C | C10: Ano do Acordo, Convenção ou Dissídio Coletivo | I10: RS004917/2023 SIND. DAS EMPR. DE ASSEIO E CONSERVAÇÃOO DO EST . DO RGS,
B11: D | C11: Número de meses de execução contratual | I11: 60
B13: Tipo de Serviço: Limpeza e Conservação Predial Para o Câmpus Santana do Livramento do IFSUL
B14: Grupo 1 | C14: Item 1 | D14: Limpeza e Conservação Predial para o Câmpus Santana do Livramento IFSUL (Insalubridade 20%) | J14: =ROUND('Servente 20%'!J253,2) -> 24444.39
C15: Item 2 | D15: Limpeza e Conservação Predial para o Câmpus Santana do Livramento IFSUL (Insalubridade 40%) | J15: =ROUND('Servente 40%'!J249,2) -> 12889.64
B16: Valor mensal do serviço | J16: =J14+J15 -> 37334.03
B18: Número de meses do contrato | J18: 60
B20: Valor global da proposta (valor mensal do serviço x nº de meses do contrato) | J20: =J16*J18 -> 2240041.8
B22: Valor Total Mensal do Contrato | J22: =J16 -> 37334.03
B23: Valor Total Anual do Contrato | J23: =J20 -> 2240041.8

Sheet Servente 20%
B1: LIMPEZA - Regime de Tributação: LUCRO REAL
B2: ANEXO II ---- do Pregão nº XX/2024 PLANILHA DE CUSTOS E FORMAÇÃO DE PREÇOS
B3: Nº do processo: | I3: XXXXXXXXXXXXX
B4: Licitação nº: | I4: XXXXXXXXXXXXX
B5: Dia: | I5: XXXXXXXXXXXXX
B6: DISCRIMINAÇÃO DOS SERVIÇOS (DADOS REFERENTES À CONTRATAÇÃO)
B7: A | C7: Data de apresentação da proposta (dia/mês/ano) | I7: XXXXXXXXXXXXX
B8: B | C8: Município/UF | I8: Santana do Livramento/RS
B9: C | C9: Ano do Acordo, Convenção ou Dissídio Coletivo | I9: RS004917/2023 SIND. DAS EMPR. DE ASSEIO E CONSERVAÇÃOO DO EST . DO RGS,
B10: D | C10: Número de meses de execução contratual | I10: 60
B11: IDENTIFICAÇÃO DO SERVIÇO
B12: Tipo de Serviço: Limpeza e Conservação Predial para o Câmpus Santana do Livramento IFSUL (Insalubridade 20%) | H12: Unidade de Medida | J12: Quantidade total a contratar (Em função da unidade de medida)
B13: a) Áreas internas - Pisos acarpetados | H13: m2 | J13: 0
B14: b) Áreas internas - Pisos frios | H14: m2 | J14: 3333.75
B15: c) Áreas internas - Laboratórios | H15: m2 | J15: 0
B16: d) Áreas internas - Almoxarifados/galpões | H16: m2 | J16: 17.15
B17: e) Áreas internas - Oficinas | H17: m2 | J17: 12.14
B18: f) Áreas internas - Áreas com espaços livres - saguão, hall e salão | H18: m2 | J18: 1322.67
B19: g) Banheiros | H19: m2 | J19: 0
B20: TOTAL DA ÁREA INTERNA | J20: =ROUND(J13+J14+J15+J16+J17+J18+J19,2) -> 4685.71
B22: a) Áreas externas - Pisos pavimentados adjacentes/contíguos às edificações | I22: m2 | K22: 208.03192
B23: b) Áreas externas - Varrição de passeios e arruamentos | I23: m2 | K23: 22.813012
B24: c) Áreas externas - Pátios com áreas verdes com alta frequência | I24: m2 | K24: 0
B25: d) Áreas externas - Pátios com áreas verdes com média frequência | I25: m2 | K25: 0
B26: e) Áreas externas - Pátios com áreas verdes com baixa frequência | I26: m2 | K26: 0
B27: f) Áreas externas - Coleta de detritos em pátios e áreas verdes com frequência diária | I27: m2 | K27: 0
B28: TOTAL DA ÁREA EXTERNA | K28: =ROUND(K22+K23+K24+K25+K26+K27,2) -> 230.84
B30: a) Esquadrias externas - Face externa com exposição a situação de risco | I30: m2 | K30: 0
B31: b) Esquadrias externas - Face externa sem exposição a situação de risco | I31: m2 | K31: 0
B32: c) Esquadrias - Face interna | I32: m2 | K32: 1783.74
B33: TOTAL DA ÁREA DA ESQUADRIA EXTERNA - FACE INTERNA/EXTERNA | K33: =ROUND(K30+K31+K32,2) -> 1783.74
B35: a) Fachada envidraçada | I35: m2 | K35: 184.05
B36: TOTAL DA ÁREA DA FACHADA ENVIDRAÇADA | K36: =K35 -> 184.05
B38: a) Áreas hospitalares e assemelhadas | I38: m2 | K38: 0
B39: TOTAL DAS ÁREAS HOSPITALARES | K39: 0
B41: a) Outras áreas (especificar) | I41: m2 | K41: 0
B42: TOTAL DAS OUTRAS ÁREAS (ESPECIFICAR) | K42: 0
B44: TOTAL GERAL | K44: =ROUND(J20+K28+K33+K36+K39,2) -> 6884.34
B46: 1. MÓDULOS Mão de obra Mão de obra vinculada à execução contratual
B48: Dados para composição dos custos referente à mão de obra
...

Sheet Servente 40%
B1: LIMPEZA - Regime de Tributação: LUCRO REAL
B2: ANEXO II ---- do Pregão nº XX/2024 PLANILHA DE CUSTOS E FORMAÇÃO DE PREÇOS
B3: Nº do processo: | I3: XXXXXXXXXXXXX
B4: Licitação nº: | I4: XXXXXXXXXXXXX
B5: Dia: | I5: XXXXXXXXXXXXX
B6: DISCRIMINAÇÃO DOS SERVIÇOS (DADOS REFERENTES À CONTRATAÇÃO)
B7: A | C7: Data de apresentação da proposta (dia/mês/ano) | I7: XXXXXXXXXXXXX
B8: B | C8: Município/UF | I8: Santana do Livramento/RS
B9: C | C9: Ano do Acordo, Convenção ou Dissídio Coletivo | I9: RS004917/2023 SIND. DAS EMPR. DE ASSEIO E CONSERVAÇÃOO DO EST . DO RGS,
B10: D | C10: Número de meses de execução contratual | I10: 60
B11: IDENTIFICAÇÃO DO SERVIÇO
B12: Tipo de Serviço: Limpeza e Conservação Predial para o Câmpus Santana do Livramento IFSUL (Insalubridade 40%) | H12: Unidade de Medida | J12: Quantidade total a contratar (Em função da unidade de medida)
B13: a) Áreas internas - Pisos acarpetados | H13: m2 | J13: 0
B14: b) Áreas internas - Pisos frios | H14: m2 | J14: 0
B15: c) Áreas internas - Laboratórios | H15: m2 | J15: 0
B16: d) Áreas internas - Almoxarifados/galpões | H16: m2 | J16: 0
B17: e) Áreas internas - Oficinas | H17: m2 | J17: 0
B18: f) Áreas internas - Áreas com espaços livres - saguão, hall e salão | H18: m2 | J18: 0
B19: g) Banheiros | H19: m2 | J19: 558.8
B20: TOTAL DA ÁREA INTERNA | J20: =ROUND(J13+J14+J15+J16+J17+J18+J19,2) -> 558.8
B22: a) Áreas externas - Pisos pavimentados adjacentes/contíguos às edificações | I22: m2 | K22: 0
B23: b) Áreas externas - Varrição de passeios e arruamentos | I23: m2 | K23: 0
B24: c) Áreas externas - Pátios com áreas verdes com alta frequência | I24: m2 | K24: 0
B25: d) Áreas externas - Pátios com áreas verdes com média frequência | I25: m2 | K25: 0
B26: e) Áreas externas - Pátios com áreas verdes com baixa frequência | I26: m2 | K26: 0
B27: f) Áreas externas - Coleta de detritos em pátios e áreas verdes com frequência diária | I27: m2 | K27: 0
B28: TOTAL DA ÁREA EXTERNA | K28: =ROUND(K22+K23+K24+K25+K26+K27,2) -> 0
B30: a) Esquadrias externas - Face externa com exposição a situação de risco | I30: m2 | K30: 0
B31: b) Esquadrias externas - Face externa sem exposição a situação de risco | I31: m2 | K31: 0
B32: c) Esquadrias - Face interna | I32: m2 | K32: 0
B33: TOTAL DA ÁREA DA ESQUADRIA EXTERNA - FACE INTERNA/EXTERNA | K33: =ROUND(K30+K31+K32,2) -> 0
B35: a) Fachada envidraçada | I35: m2 | K35: 0
B36: TOTAL DA ÁREA DA FACHADA ENVIDRAÇADA | K36: =K35 -> 0
B38: a) Áreas hospitalares e assemelhadas | I38: m2 | K38: 0
B39: TOTAL DAS ÁREAS HOSPITALARES | K39: 0
B41: a) Outras áreas (especificar) | I41: m2 | K41: 0
B42: TOTAL DAS OUTRAS ÁREAS (ESPECIFICAR) | K42: 0
B44: TOTAL GERAL | K44: =ROUND(J20+K28+K33+K36+K39,2) -> 558.8
B46: 1. MÓDULOS Mão de obra Mão de obra vinculada à execução contratual
B48: Dados para composição dos custos referente à mão de obra
...

Sheet INSUMOS
B1: LIMPEZA - Regime de Tributação: LUCRO REAL
B2: ANEXO II ---- do Pregão nº XX/2024 PLANILHA DE CUSTOS E FORMAÇÃO DE PREÇOS
B3: Nº do processo: | G3: XXXXXXXXXXX
B4: Licitação nº: | G4: XXXXXXXXXXX
B5: Dia: | G5: XXXXXXXXXXX
B7: Materiais de Limpeza e Utensílios | C7: Unidade | D7: Quantidade Mensal | E7: Total Anual | F7: Valor Unitário | G7: Custo Anual
B8: Hipoclorito de sódio, mínimo de 2,0 à 2,5% p/p de cloro ativo (água sanitária), embalagem de 5 litros | C8: galão | D8: 8 | E8: =(D8*12) -> 96 | F8: =((10.28+14.25+13.82)/3) -> 12.783333 | G8: =F8*E8 -> 1227.2
B9: Álcool 70 °INPM (70% p/p) ou 77 °GL (77% v/v), embalagem de 5 litros | C9: galão | D9: 4 | E9: =(D9*12) -> 48 | F9: =((33.71+32.92+36.9)/3) -> 34.51 | G9: =F9*E9 -> 1656.48
B10: Álcool em gel 70% INPM ou 77º GL (77% v/v), embalagem de 5 litros | C10: galão | D10: 4 | E10: =(D10*12) -> 48 | F10: =((36.9+38.08+35.76)/3) -> 36.913333 | G10: =F10*E10 -> 1771.84
B11: Detergente neutro, de boa qualidade, embalagem de 5 litros | C11: galão | D11: 4 | E11: =(D11*12) -> 48 | F11: =((15.9+18.07+17.96)/3) -> 17.31 | G11: =F11*E11 -> 830.88
B12: Desinfetante de uso geral, aromatizado, embalagem de 5 litros | C12: galão | D12: 6 | E12: =(D12*12) -> 72 | F12: =((11.9+11.19+12.69)/3) -> 11.926667 | G12: =F12*E12 -> 858.72
B13: Desodorizador de ar de 360 ml (tipo aerosol) | C13: unidade | D13: 2 | E13: =(D13*12) -> 24 | F13: =((13.3+12.28+13.9)/3) -> 13.16 | G13: =F13*E13 -> 315.84
B14: Limpa vidros, embalagem de 5 litros | C14: galão | D14: 2 | E14: =(D14*12) -> 24 | F14: =((16.36+19.5+18.99)/3) -> 18.283333 | G14: =F14*E14 -> 438.8
B15: Lustra móveis, 500 ml | C15: unidade | D15: 3 | E15: =(D15*12) -> 36 | F15: =((7.69+9.9+7.1)/3) -> 8.23 | G15: =F15*E15 -> 296.28
B16: Sabão em barra de 200g, glicerinado, embalagem com 5 unidades | C16: Pacote c/5 unidades | D16: 2 | E16: =(D16*12) -> 24 | F16: =((10+13.65+12.9)/3) -> 12.183333 | G16: =F16*E16 -> 292.4
B17: Saponáceo cremoso, frasco de 300 ml | C17: unidade | D17: 12 | E17: =(D17*12) -> 144 | F17: =((4.99+5.1+5.19)/3) -> 5.0933333 | G17: =F17*E17 -> 733.44
B18: Solvente para banheiro químico, bactericida e desodorizante (líquido para caixa de detritos e banheiro químico), embalagem de 1 litro, preferencialmente com dosador | C18: unidades | D18: 1 | E18: =(D18*12) -> 12 | F18: =((45+53.88+46.8)/3) -> 48.56 | G18: =F18*E18 -> 582.72
B19: Desincrustante ácido, tira mancha, embalagem de 5 litros (limpador para vaso sanitário, mictórios, piso encardido e pós obra) | C19: galão | D19: 1 | E19: =(D19*12) -> 12 | F19: =((77.5+59+70)/3) -> 68.833333 | G19: =F19*E19 -> 826
B20: Pedra sanitária, sachê de 25 g | C20: unidade | D20: 48 | E20: =(D20*12) -> 576 | F20: =((1.4+1.57+1.59)/3) -> 1.52 | G20: =F20*E20 -> 875.52
B21: Saco de lixo 100L, pacote 100 unidades, vermelho | C21: pacote | D21: 1 | E21: =(D21*12) -> 12 | F21: =((54+43.28+44.91)/3) -> 47.396667 | G21: =F21*E21 -> 568.76
B22: Saco de lixo 100L, pacote 100 unidades, azul | C22: pacote | D22: 1 | E22: =(D22*12) -> 12 | F22: =((28.58+23+32.99)/3) -> 28.19 | G22: =F22*E22 -> 338.28
B23: Saco de lixo 100L, pacote 100 unidades, amarelo | C23: pacote | D23: 1 | E23: =(D23*12) -> 12 | F23: =((28.22+30.05+35.4)/3) -> 31.223333 | G23: =F23*E23 -> 374.68
B24: Saco de lixo 100L, pacote 100 unidades, verde | C24: pacote | D24: 1 | E24: =(D24*12) -> 12 | F24: =((30.05+38.39+39.9)/3) -> 36.113333 | G24: =F24*E24 -> 433.36
B25: Saco de lixo 100L, pacote 100 unidades, preto | C25: pacote | D25: 3 | E25: =(D25*12) -> 36 | F25: =((26.63+23.1+29.9)/3) -> 26.543333 | G25: =F25*E25 -> 955.56
B26: Saco de lixo 60L, pacote 100 unidades, preto | C26: pacote | D26: 1 | E26: =(D26*12) -> 12 | F26: =((27.9+23.87+19.9)/3) -> 23.89 | G26: =F26*E26 -> 286.68
B27: Saco de lixo 40L, pacote 100 unidades, preto | C27: pacote | D27: 3 | E27: =(D27*12) -> 36 | F27: =(14.9+17.6+16.2)/3 -> 16.233333 | G27: =F27*E27 -> 584.4
B28: Papel higiênico branco, folha dupla, rolo de 30m x 10 cm, fardo com 64 unidades, padrão de qualidade, mínima,QUALITÉ | C28: fardo | D28: 10 | E28: =(D28*12) -> 120 | F28: =((87.9+86.28+76.67)/3) -> 83.616667 | G28: =F28*E28 -> 10034
B29: Papel toalha branco 100% celulose interfolhado, com 1000 folhas de 20cm x 21cm | C29: pacote | D29: =(6*22) -> 132 | E29: =(D29*12) -> 1584 | F29: =((12.99+12+13.55)/3) -> 12.846667 | G29: =F29*E29 -> 20349.12
B30: Sabonete líquido para mãos, cremoso, concentrado, embalagem de 5 litros | C30: galão | D30: 4 | E30: =(D30*12) -> 48 | F30: =((20.72+18.75+18.9)/3) -> 19.456667 | G30: =F30*E30 -> 933.92
B31: Esponja dupla face, verde a amarela, pacote com 10 unidades | C31: pacote c/ 10 unidades | D31: 1 | E31: =(D31*12) -> 12 | F31: =((7.8+9.75+8.85)/3) -> 8.8 | G31: =F31*E31 -> 105.6
B32: Prendedor de roupas, pacote com 12 unidades | C32: pacote | D32: 1 | E32: =(D32*12) -> 12 | F32: =((3+3.75+3.71)/3) -> 3.4866667 | G32: =F32*E32 -> 41.84
B33: Pano de chão, 100% algodão, medidas aproximadas: 50 cm x 70 cm | C33: unidade | D33: 6 | E33: =(D33*12) -> 72 | F33: =((4.3+4.25+4.45)/3) -> 4.3333333 | G33: =F33*E33 -> 312
B34: Flanela para limpeza, algodão, medidas aproximadas: 28x28 cm, pacote com 12 unidades | C34: pacote | D34: 1 | E34: =(D34*12) -> 12 | F34: =((21.78+19.4+21.2)/3) -> 20.793333 | G34: =F34*E34 -> 249.52
B35: Esponja de lã de aço (pacote com 8 unidades) | C35: unidade | D35: 1 | E35: =(D35*12) -> 12 | F35: =((2.4+2.35+3.72)/3) -> 2.8233333 | G35: =F35*E35 -> 33.88
B36: Luvas de látex para limpeza pesada, cano longo, COR AZUL (limpeza dos banheiros) (tamanhos de acordo com os colaboradores) | C36: par | D36: =2*2 -> 4 | E36: =(D36*12) -> 48 | F36: =((3.79+3.49+4.04)/3) -> 3.7733333 | G36: =F36*E36 -> 181.12
B37: Luvas de látex para limpeza pesada, COR AMARELA (limpeza em geral) (tamanhos de acordo com os colaboradores) | C37: par | D37: =2*7 -> 14 | E37: =(D37*12) -> 168 | F37: =((3.9+3.78+3.1)/3) -> 3.5933333 | G37: =F37*E37 -> 603.68
B38: Refil para MOP esfregão, algodão, mínimo 340g, compatível com o cabo.correspondente ao kit de limpeza (preferencialmente com rosca) (*) | C38: Unidade | D38: 6 | E38: =(D38*12) -> 72 | F38: =((18.9+18.03+20.02)/3) -> 18.983333 | G38: =F38*E38 -> 1366.8
B39: Refil para MOP pó 60cm (vassourão), compatível com o equipamento fornecido.(*) | C39: Unidade | D39: 2 | E39: =(D39*12) -> 24 | F39: =((42.97+45+40.44)/3) -> 42.803333 | G39: =F39*E39 -> 1027.28
B40: Balde plástico, com alça, 18 litros (*) | C40: unidade | D40: 6 | E40: =(D40*12) -> 72 | F40: =((17.4+15.9+16.9)/3) -> 16.733333 | G40: =F40*E40 -> 1204.8
B41: Desentupidor de pia, padrão Bettanin. (*) | C41: unidade | D41: 2 | E41: =(D41*12) -> 24 | F41: =((16.9+18.26+19.9)/3) -> 18.353333 | G41: =F41*E41 -> 440.48
...
